BEGIN:VCALENDAR
VERSION:2.0
PRODID:-// - ECPv6.15.20//NONSGML v1.0//EN
CALSCALE:GREGORIAN
METHOD:PUBLISH
X-ORIGINAL-URL:https://saterbygden.se
X-WR-CALDESC:Händelser för 
REFRESH-INTERVAL;VALUE=DURATION:PT1H
X-Robots-Tag:noindex
X-PUBLISHED-TTL:PT1H
BEGIN:VTIMEZONE
TZID:Europe/Paris
BEGIN:DAYLIGHT
TZOFFSETFROM:+0100
TZOFFSETTO:+0200
TZNAME:CEST
DTSTART:20250330T010000
END:DAYLIGHT
BEGIN:STANDARD
TZOFFSETFROM:+0200
TZOFFSETTO:+0100
TZNAME:CET
DTSTART:20251026T010000
END:STANDARD
BEGIN:DAYLIGHT
TZOFFSETFROM:+0100
TZOFFSETTO:+0200
TZNAME:CEST
DTSTART:20260329T010000
END:DAYLIGHT
BEGIN:STANDARD
TZOFFSETFROM:+0200
TZOFFSETTO:+0100
TZNAME:CET
DTSTART:20261025T010000
END:STANDARD
BEGIN:DAYLIGHT
TZOFFSETFROM:+0100
TZOFFSETTO:+0200
TZNAME:CEST
DTSTART:20270328T010000
END:DAYLIGHT
BEGIN:STANDARD
TZOFFSETFROM:+0200
TZOFFSETTO:+0100
TZNAME:CET
DTSTART:20271031T010000
END:STANDARD
END:VTIMEZONE
BEGIN:VEVENT
DTSTART;VALUE=DATE:20260411
DTEND;VALUE=DATE:20260412
DTSTAMP:20260420T080702
CREATED:20260120T105241Z
LAST-MODIFIED:20260120T105241Z
UID:2660-1775865600-1775951999@saterbygden.se
SUMMARY:Lännamedeln\, Uppland
DESCRIPTION:Information och anmälan
URL:https://saterbygden.se/event/lannamedeln-uppland/
END:VEVENT
BEGIN:VEVENT
DTSTART;VALUE=DATE:20260412
DTEND;VALUE=DATE:20260413
DTSTAMP:20260420T080702
CREATED:20260120T123558Z
LAST-MODIFIED:20260120T123558Z
UID:2676-1775952000-1776038399@saterbygden.se
SUMMARY:NOK:s nationella\, Norberg
DESCRIPTION:Information och anmälan
URL:https://saterbygden.se/event/noks-nationella-norberg/
END:VEVENT
BEGIN:VEVENT
DTSTART;TZID=Europe/Paris:20260414T180000
DTEND;TZID=Europe/Paris:20260414T200000
DTSTAMP:20260420T080702
CREATED:20260412T193935Z
LAST-MODIFIED:20260412T193935Z
UID:2773-1776189600-1776196800@saterbygden.se
SUMMARY:Provlöpning banor inför Säterträffen
DESCRIPTION:Vi provlöper några av vuxen banorna inför vår tävling 30/5.\nSamlingsplats vid Säterstugan från 17:30 för gemensam avfärd 17:40 för den som önskar det.\nEndast för klubbmedlemmar.
URL:https://saterbygden.se/event/provlopning-banor-infor-satertraffen/
LOCATION:Rasjön\, Rasjön\, Gustafs\, 78162\, Sweden
END:VEVENT
BEGIN:VEVENT
DTSTART;VALUE=DATE:20260424
DTEND;VALUE=DATE:20260425
DTSTAMP:20260420T080702
CREATED:20260120T131159Z
LAST-MODIFIED:20260120T131159Z
UID:2678-1776988800-1777075199@saterbygden.se
SUMMARY:DM\, natt\, Dalarna\, Falun
DESCRIPTION:Information och anmälan
URL:https://saterbygden.se/event/dm-natt-dalarna-falun/
END:VEVENT
BEGIN:VEVENT
DTSTART;VALUE=DATE:20260425
DTEND;VALUE=DATE:20260426
DTSTAMP:20260420T080702
CREATED:20260120T132710Z
LAST-MODIFIED:20260120T132710Z
UID:2680-1777075200-1777161599@saterbygden.se
SUMMARY:DM\, sprint\, Dalarna (Leksandstrippeln\, #1\, sprint)
DESCRIPTION:Information och anmälan
URL:https://saterbygden.se/event/dm-sprint-dalarna-leksandstrippeln-1-sprint/
END:VEVENT
BEGIN:VEVENT
DTSTART;VALUE=DATE:20260425
DTEND;VALUE=DATE:20260426
DTSTAMP:20260420T080702
CREATED:20260120T132903Z
LAST-MODIFIED:20260120T132903Z
UID:2682-1777075200-1777161599@saterbygden.se
SUMMARY:Leksandstrippeln\, #2\, indoor
DESCRIPTION:Information och anmälan
URL:https://saterbygden.se/event/leksandstrippeln-2-indoor-2/
END:VEVENT
BEGIN:VEVENT
DTSTART;VALUE=DATE:20260426
DTEND;VALUE=DATE:20260427
DTSTAMP:20260420T080702
CREATED:20260120T133010Z
LAST-MODIFIED:20260120T133010Z
UID:2684-1777161600-1777247999@saterbygden.se
SUMMARY:Leksandstrippeln\, #3\, medel
DESCRIPTION:Information och anmälan
URL:https://saterbygden.se/event/leksandstrippeln-3-medel-2/
END:VEVENT
BEGIN:VEVENT
DTSTART;VALUE=DATE:20260501
DTEND;VALUE=DATE:20260502
DTSTAMP:20260420T080702
CREATED:20260121T082231Z
LAST-MODIFIED:20260121T082231Z
UID:2686-1777593600-1777679999@saterbygden.se
SUMMARY:Silverjakten\, Sala
DESCRIPTION:Information och anmälan
URL:https://saterbygden.se/event/silverjakten-sala/
END:VEVENT
BEGIN:VEVENT
DTSTART;VALUE=DATE:20260502
DTEND;VALUE=DATE:20260504
DTSTAMP:20260420T080702
CREATED:20260121T085958Z
LAST-MODIFIED:20260121T085958Z
UID:2688-1777680000-1777852799@saterbygden.se
SUMMARY:Tiomila\, Tranås
DESCRIPTION:Information och anmälan
URL:https://saterbygden.se/event/tiomila-tranas/
END:VEVENT
BEGIN:VEVENT
DTSTART;VALUE=DATE:20260509
DTEND;VALUE=DATE:20260510
DTSTAMP:20260420T080702
CREATED:20260121T101053Z
LAST-MODIFIED:20260121T101053Z
UID:2690-1778284800-1778371199@saterbygden.se
SUMMARY:Fäbodloppet\, dag 1\, lång\, Borlänge
DESCRIPTION:Information och anmälan
URL:https://saterbygden.se/event/fabodloppet-dag-1-lang-borlange/
END:VEVENT
BEGIN:VEVENT
DTSTART;VALUE=DATE:20260509
DTEND;VALUE=DATE:20260510
DTSTAMP:20260420T080702
CREATED:20260121T113946Z
LAST-MODIFIED:20260121T113946Z
UID:2692-1778284800-1778371199@saterbygden.se
SUMMARY:MTBO\, Svenska cupen\, #1\, sprint + Haningeträffen
DESCRIPTION:Information och anmälan
URL:https://saterbygden.se/event/mtbo-svenska-cupen-1-sprint-haningetraffen/
END:VEVENT
BEGIN:VEVENT
DTSTART;VALUE=DATE:20260510
DTEND;VALUE=DATE:20260511
DTSTAMP:20260420T080702
CREATED:20260121T115532Z
LAST-MODIFIED:20260121T115532Z
UID:2694-1778371200-1778457599@saterbygden.se
SUMMARY:Fäbodloppet\, dag 2\, medel\, Borlänge
DESCRIPTION:Information och anmälan
URL:https://saterbygden.se/event/fabodloppet-dag-2-medel-borlange/
END:VEVENT
BEGIN:VEVENT
DTSTART;VALUE=DATE:20260510
DTEND;VALUE=DATE:20260511
DTSTAMP:20260420T080702
CREATED:20260121T115645Z
LAST-MODIFIED:20260121T115645Z
UID:2696-1778371200-1778457599@saterbygden.se
SUMMARY:MTBO\, Svenska cupen\, #2\, lång + Haningeträffen
DESCRIPTION:Information och anmälan
URL:https://saterbygden.se/event/mtbo-svenska-cupen-2-lang-haningetraffen/
END:VEVENT
BEGIN:VEVENT
DTSTART;VALUE=DATE:20260514
DTEND;VALUE=DATE:20260515
DTSTAMP:20260420T080702
CREATED:20260121T125412Z
LAST-MODIFIED:20260121T125412Z
UID:2698-1778716800-1778803199@saterbygden.se
SUMMARY:Hammarslaget\, dag 1\, lång\, Sandviken
DESCRIPTION:Information och anmälan
URL:https://saterbygden.se/event/hammarslaget-dag-1-lang-sandviken/
END:VEVENT
BEGIN:VEVENT
DTSTART;VALUE=DATE:20260515
DTEND;VALUE=DATE:20260516
DTSTAMP:20260420T080702
CREATED:20260121T125542Z
LAST-MODIFIED:20260121T125542Z
UID:2700-1778803200-1778889599@saterbygden.se
SUMMARY:Hammarslaget\, dag 2\, medel\, Sandviken
DESCRIPTION:Information och anmälan
URL:https://saterbygden.se/event/hammarslaget-dag-2-medel-sandviken/
END:VEVENT
BEGIN:VEVENT
DTSTART;VALUE=DATE:20260516
DTEND;VALUE=DATE:20260517
DTSTAMP:20260420T080702
CREATED:20260121T125702Z
LAST-MODIFIED:20260121T125702Z
UID:2702-1778889600-1778975999@saterbygden.se
SUMMARY:DOL-kampen\, dag 1\, Avesta
DESCRIPTION:Information och anmälan
URL:https://saterbygden.se/event/dol-kampen-dag-1-avesta/
END:VEVENT
BEGIN:VEVENT
DTSTART;VALUE=DATE:20260517
DTEND;VALUE=DATE:20260518
DTSTAMP:20260420T080702
CREATED:20260121T131210Z
LAST-MODIFIED:20260121T131210Z
UID:2704-1778976000-1779062399@saterbygden.se
SUMMARY:DOL-kampen\, dag 2\, Avesta
DESCRIPTION:Information och anmälan
URL:https://saterbygden.se/event/dol-kampen-dag-2-avesta/
END:VEVENT
BEGIN:VEVENT
DTSTART;VALUE=DATE:20260523
DTEND;VALUE=DATE:20260524
DTSTAMP:20260420T080702
CREATED:20260121T131412Z
LAST-MODIFIED:20260121T131412Z
UID:2706-1779494400-1779580799@saterbygden.se
SUMMARY:Faxeträffen\, dag 1\, medel\, Söderhamn
DESCRIPTION:Information och anmälan
URL:https://saterbygden.se/event/faxetraffen-dag-1-medel-soderhamn/
END:VEVENT
BEGIN:VEVENT
DTSTART;VALUE=DATE:20260524
DTEND;VALUE=DATE:20260525
DTSTAMP:20260420T080702
CREATED:20260122T093923Z
LAST-MODIFIED:20260122T093923Z
UID:2708-1779580800-1779667199@saterbygden.se
SUMMARY:Faxeträffen\, dag 2\, lång\, Söderhamn
DESCRIPTION:Information och anmälan
URL:https://saterbygden.se/event/faxetraffen-dag-2-lang-soderhamn/
END:VEVENT
BEGIN:VEVENT
DTSTART;VALUE=DATE:20260530
DTEND;VALUE=DATE:20260531
DTSTAMP:20260420T080702
CREATED:20260122T101346Z
LAST-MODIFIED:20260122T101417Z
UID:2710-1780099200-1780185599@saterbygden.se
SUMMARY:Säterträffen
DESCRIPTION:Eventor – Tävlingsinformation: Säterträffen \nVår egen tävling på Pellesberget. Hjälp med arrangemanget behövs. \n 
URL:https://saterbygden.se/event/satertraffen/
END:VEVENT
BEGIN:VEVENT
DTSTART;VALUE=DATE:20260531
DTEND;VALUE=DATE:20260601
DTSTAMP:20260420T080702
CREATED:20260122T102006Z
LAST-MODIFIED:20260122T102006Z
UID:2713-1780185600-1780271999@saterbygden.se
SUMMARY:Slottssprinten + DM\, sprint\, Uppland\, Sigtuna
DESCRIPTION:Information och anmälan
URL:https://saterbygden.se/event/slottssprinten-dm-sprint-uppland-sigtuna/
END:VEVENT
BEGIN:VEVENT
DTSTART;VALUE=DATE:20260531
DTEND;VALUE=DATE:20260601
DTSTAMP:20260420T080702
CREATED:20260122T102116Z
LAST-MODIFIED:20260122T102116Z
UID:2715-1780185600-1780271999@saterbygden.se
SUMMARY:Slottssprintstafetten\, teamsprint\, Sigtuna
DESCRIPTION:Information och anmälan
URL:https://saterbygden.se/event/slottssprintstafetten-teamsprint-sigtuna/
END:VEVENT
BEGIN:VEVENT
DTSTART;TZID=Europe/Paris:20260605T180000
DTEND;TZID=Europe/Paris:20260605T210000
DTSTAMP:20260420T080702
CREATED:20260122T115456Z
LAST-MODIFIED:20260122T115456Z
UID:2717-1780682400-1780693200@saterbygden.se
SUMMARY:Ösaträffen\, etapp 1\, medel\, Alfta
DESCRIPTION:Information och anmälan
URL:https://saterbygden.se/event/osatraffen-etapp-1-medel-alfta/
END:VEVENT
BEGIN:VEVENT
DTSTART;VALUE=DATE:20260606
DTEND;VALUE=DATE:20260607
DTSTAMP:20260420T080702
CREATED:20260122T120119Z
LAST-MODIFIED:20260122T120119Z
UID:2719-1780704000-1780790399@saterbygden.se
SUMMARY:Ösaträffen\, etapp 2\, medel\, Alfta
DESCRIPTION:Information och anmälan
URL:https://saterbygden.se/event/osatraffen-etapp-2-medel-alfta/
END:VEVENT
BEGIN:VEVENT
DTSTART;VALUE=DATE:20260607
DTEND;VALUE=DATE:20260608
DTSTAMP:20260420T080702
CREATED:20260122T120227Z
LAST-MODIFIED:20260122T120227Z
UID:2721-1780790400-1780876799@saterbygden.se
SUMMARY:Ösaträffen\, etapp 3\, lång\, Alfta
DESCRIPTION:Information och anmälan
URL:https://saterbygden.se/event/osatraffen-etapp-3-lang-alfta/
END:VEVENT
END:VCALENDAR