BEGIN:VCALENDAR
VERSION:2.0
PRODID:-// - ECPv6.15.20//NONSGML v1.0//EN
CALSCALE:GREGORIAN
METHOD:PUBLISH
X-ORIGINAL-URL:https://saterbygden.se
X-WR-CALDESC:Händelser för 
REFRESH-INTERVAL;VALUE=DURATION:PT1H
X-Robots-Tag:noindex
X-PUBLISHED-TTL:PT1H
BEGIN:VTIMEZONE
TZID:Europe/Paris
BEGIN:DAYLIGHT
TZOFFSETFROM:+0100
TZOFFSETTO:+0200
TZNAME:CEST
DTSTART:20220327T010000
END:DAYLIGHT
BEGIN:STANDARD
TZOFFSETFROM:+0200
TZOFFSETTO:+0100
TZNAME:CET
DTSTART:20221030T010000
END:STANDARD
BEGIN:DAYLIGHT
TZOFFSETFROM:+0100
TZOFFSETTO:+0200
TZNAME:CEST
DTSTART:20230326T010000
END:DAYLIGHT
BEGIN:STANDARD
TZOFFSETFROM:+0200
TZOFFSETTO:+0100
TZNAME:CET
DTSTART:20231029T010000
END:STANDARD
BEGIN:DAYLIGHT
TZOFFSETFROM:+0100
TZOFFSETTO:+0200
TZNAME:CEST
DTSTART:20240331T010000
END:DAYLIGHT
BEGIN:STANDARD
TZOFFSETFROM:+0200
TZOFFSETTO:+0100
TZNAME:CET
DTSTART:20241027T010000
END:STANDARD
END:VTIMEZONE
BEGIN:VEVENT
DTSTART;TZID=Europe/Paris:20230405T174500
DTEND;TZID=Europe/Paris:20230405T191500
DTSTAMP:20260419T231728
CREATED:20230317T084023Z
LAST-MODIFIED:20230317T084023Z
UID:1197-1680716700-1680722100@saterbygden.se
SUMMARY:Orienteringskurs #1
DESCRIPTION:Motionscentralen\, Hagavägen 50\, Säter \nInformation
URL:https://saterbygden.se/event/orienteringskurs-1/
LOCATION:Säterstugan\, Hagavägen 50\, Säter\, 78332\, Sverige
CATEGORIES:Träning
END:VEVENT
BEGIN:VEVENT
DTSTART;TZID=Europe/Paris:20230412T174500
DTEND;TZID=Europe/Paris:20230412T191500
DTSTAMP:20260419T231728
CREATED:20230317T084249Z
LAST-MODIFIED:20230317T084249Z
UID:1199-1681321500-1681326900@saterbygden.se
SUMMARY:Orienteringskurs #2
DESCRIPTION:Motionscentralen\, Hagavägen 50\, Säter \nInformation
URL:https://saterbygden.se/event/orienteringskurs-2/
LOCATION:Säterstugan\, Hagavägen 50\, Säter\, 78332\, Sverige
CATEGORIES:Träning
END:VEVENT
BEGIN:VEVENT
DTSTART;TZID=Europe/Paris:20230426T174500
DTEND;TZID=Europe/Paris:20230426T191500
DTSTAMP:20260419T231728
CREATED:20230317T084536Z
LAST-MODIFIED:20230317T084536Z
UID:1203-1682531100-1682536500@saterbygden.se
SUMMARY:Orienteringskurs #4
DESCRIPTION:Motionscentralen\, Hagavägen 50\, Säter \nInformation
URL:https://saterbygden.se/event/orienteringskurs-4/
LOCATION:Säterstugan\, Hagavägen 50\, Säter\, 78332\, Sverige
CATEGORIES:Träning
END:VEVENT
END:VCALENDAR