BEGIN:VCALENDAR
VERSION:2.0
PRODID:-// - ECPv6.15.20//NONSGML v1.0//EN
CALSCALE:GREGORIAN
METHOD:PUBLISH
X-ORIGINAL-URL:https://saterbygden.se
X-WR-CALDESC:Händelser för 
REFRESH-INTERVAL;VALUE=DURATION:PT1H
X-Robots-Tag:noindex
X-PUBLISHED-TTL:PT1H
BEGIN:VTIMEZONE
TZID:Europe/Paris
BEGIN:DAYLIGHT
TZOFFSETFROM:+0100
TZOFFSETTO:+0200
TZNAME:CEST
DTSTART:20220327T010000
END:DAYLIGHT
BEGIN:STANDARD
TZOFFSETFROM:+0200
TZOFFSETTO:+0100
TZNAME:CET
DTSTART:20221030T010000
END:STANDARD
BEGIN:DAYLIGHT
TZOFFSETFROM:+0100
TZOFFSETTO:+0200
TZNAME:CEST
DTSTART:20230326T010000
END:DAYLIGHT
BEGIN:STANDARD
TZOFFSETFROM:+0200
TZOFFSETTO:+0100
TZNAME:CET
DTSTART:20231029T010000
END:STANDARD
BEGIN:DAYLIGHT
TZOFFSETFROM:+0100
TZOFFSETTO:+0200
TZNAME:CEST
DTSTART:20240331T010000
END:DAYLIGHT
BEGIN:STANDARD
TZOFFSETFROM:+0200
TZOFFSETTO:+0100
TZNAME:CET
DTSTART:20241027T010000
END:STANDARD
END:VTIMEZONE
BEGIN:VEVENT
DTSTART;TZID=Europe/Paris:20230124T180000
DTEND;TZID=Europe/Paris:20230124T190000
DTSTAMP:20260420T033549
CREATED:20230122T221645Z
LAST-MODIFIED:20230122T222941Z
UID:1046-1674583200-1674586800@saterbygden.se
SUMMARY:Träning\, skidträning vid motionscentralen i Säter
DESCRIPTION:Förutsättningarna för skidåkning på elljusspåret är ganska goda så passa på att åka lite\, innan blidvädret på onsdag ev förstör spåren. Vi träffas ung som gammal och tränar tillsammans. Blir vi många så delar vi upp oss i mindre grupper utefter ålder och kunnande. Det fungerar både med klassiskt eller skate. \n 
URL:https://saterbygden.se/event/traning-skidtraning-vid-motionscentralen-i-sater/
LOCATION:Säterstugan\, Hagavägen 50\, Säter\, 78332\, Sverige
CATEGORIES:Träning
END:VEVENT
END:VCALENDAR