BEGIN:VCALENDAR
VERSION:2.0
PRODID:-// - ECPv6.15.20//NONSGML v1.0//EN
CALSCALE:GREGORIAN
METHOD:PUBLISH
X-ORIGINAL-URL:https://saterbygden.se
X-WR-CALDESC:Händelser för 
REFRESH-INTERVAL;VALUE=DURATION:PT1H
X-Robots-Tag:noindex
X-PUBLISHED-TTL:PT1H
BEGIN:VTIMEZONE
TZID:Europe/Paris
BEGIN:DAYLIGHT
TZOFFSETFROM:+0100
TZOFFSETTO:+0200
TZNAME:CEST
DTSTART:20240331T010000
END:DAYLIGHT
BEGIN:STANDARD
TZOFFSETFROM:+0200
TZOFFSETTO:+0100
TZNAME:CET
DTSTART:20241027T010000
END:STANDARD
BEGIN:DAYLIGHT
TZOFFSETFROM:+0100
TZOFFSETTO:+0200
TZNAME:CEST
DTSTART:20250330T010000
END:DAYLIGHT
BEGIN:STANDARD
TZOFFSETFROM:+0200
TZOFFSETTO:+0100
TZNAME:CET
DTSTART:20251026T010000
END:STANDARD
BEGIN:DAYLIGHT
TZOFFSETFROM:+0100
TZOFFSETTO:+0200
TZNAME:CEST
DTSTART:20260329T010000
END:DAYLIGHT
BEGIN:STANDARD
TZOFFSETFROM:+0200
TZOFFSETTO:+0100
TZNAME:CET
DTSTART:20261025T010000
END:STANDARD
END:VTIMEZONE
BEGIN:VEVENT
DTSTART;VALUE=DATE:20250104
DTEND;VALUE=DATE:20250105
DTSTAMP:20260421T205535
CREATED:20241022T075530Z
LAST-MODIFIED:20241022T080618Z
UID:2055-1735948800-1736035199@saterbygden.se
SUMMARY:Längd: Morapinglan\, klassisk
DESCRIPTION:Information och anmälan
URL:https://saterbygden.se/event/langd-morapinglan-klassisk-2/
CATEGORIES:Tävling
END:VEVENT
BEGIN:VEVENT
DTSTART;VALUE=DATE:20250105
DTEND;VALUE=DATE:20250106
DTSTAMP:20260421T205535
CREATED:20241022T085019Z
LAST-MODIFIED:20241022T085450Z
UID:2057-1736035200-1736121599@saterbygden.se
SUMMARY:Längd: Morapinglan\, fri stil
DESCRIPTION:Information och anmälan
URL:https://saterbygden.se/event/langd-morapinglan-fri-stil/
CATEGORIES:Tävling
END:VEVENT
BEGIN:VEVENT
DTSTART;VALUE=DATE:20250118
DTEND;VALUE=DATE:20250119
DTSTAMP:20260421T205535
CREATED:20241022T072630Z
LAST-MODIFIED:20241022T072630Z
UID:2041-1737158400-1737244799@saterbygden.se
SUMMARY:Falu Indoor\, etapp 1
DESCRIPTION:Information och anmälan
URL:https://saterbygden.se/event/falu-indoor-etapp-1-2/
CATEGORIES:Tävling
END:VEVENT
BEGIN:VEVENT
DTSTART;VALUE=DATE:20250119
DTEND;VALUE=DATE:20250120
DTSTAMP:20260421T205535
CREATED:20241022T072740Z
LAST-MODIFIED:20241022T072740Z
UID:2043-1737244800-1737331199@saterbygden.se
SUMMARY:Falu Indoor\, etapp 2
DESCRIPTION:Information och anmälan
URL:https://saterbygden.se/event/falu-indoor-etapp-2-2/
CATEGORIES:Tävling
END:VEVENT
BEGIN:VEVENT
DTSTART;VALUE=DATE:20250126
DTEND;VALUE=DATE:20250127
DTSTAMP:20260421T205535
CREATED:20241022T085155Z
LAST-MODIFIED:20241022T085155Z
UID:2059-1737849600-1737935999@saterbygden.se
SUMMARY:Längd: Matsboloppet\, Hedemora\, klassisk
DESCRIPTION:Information och anmälan
URL:https://saterbygden.se/event/langd-matsboloppet-hedemora-klassisk/
CATEGORIES:Tävling
END:VEVENT
END:VCALENDAR