BEGIN:VCALENDAR
VERSION:2.0
PRODID:-// - ECPv6.15.20//NONSGML v1.0//EN
CALSCALE:GREGORIAN
METHOD:PUBLISH
X-ORIGINAL-URL:https://saterbygden.se
X-WR-CALDESC:Händelser för 
REFRESH-INTERVAL;VALUE=DURATION:PT1H
X-Robots-Tag:noindex
X-PUBLISHED-TTL:PT1H
BEGIN:VTIMEZONE
TZID:Europe/Paris
BEGIN:DAYLIGHT
TZOFFSETFROM:+0100
TZOFFSETTO:+0200
TZNAME:CEST
DTSTART:20230326T010000
END:DAYLIGHT
BEGIN:STANDARD
TZOFFSETFROM:+0200
TZOFFSETTO:+0100
TZNAME:CET
DTSTART:20231029T010000
END:STANDARD
BEGIN:DAYLIGHT
TZOFFSETFROM:+0100
TZOFFSETTO:+0200
TZNAME:CEST
DTSTART:20240331T010000
END:DAYLIGHT
BEGIN:STANDARD
TZOFFSETFROM:+0200
TZOFFSETTO:+0100
TZNAME:CET
DTSTART:20241027T010000
END:STANDARD
BEGIN:DAYLIGHT
TZOFFSETFROM:+0100
TZOFFSETTO:+0200
TZNAME:CEST
DTSTART:20250330T010000
END:DAYLIGHT
BEGIN:STANDARD
TZOFFSETFROM:+0200
TZOFFSETTO:+0100
TZNAME:CET
DTSTART:20251026T010000
END:STANDARD
END:VTIMEZONE
BEGIN:VEVENT
DTSTART;VALUE=DATE:20241214
DTEND;VALUE=DATE:20241215
DTSTAMP:20260421T221648
CREATED:20241022T072243Z
LAST-MODIFIED:20241022T072243Z
UID:2037-1734134400-1734220799@saterbygden.se
SUMMARY:Viken Indoor\, etapp 1\, Sandviken
DESCRIPTION:Information och anmälan
URL:https://saterbygden.se/event/viken-indoor-etapp-1-sandviken/
CATEGORIES:Tävling
END:VEVENT
BEGIN:VEVENT
DTSTART;VALUE=DATE:20241214
DTEND;VALUE=DATE:20241216
DTSTAMP:20260421T221648
CREATED:20241022T075031Z
LAST-MODIFIED:20241022T075031Z
UID:2049-1734134400-1734307199@saterbygden.se
SUMMARY:Längd: Björnjakten\, Älvdalen
DESCRIPTION:Information och anmälan
URL:https://saterbygden.se/event/langd-bjornjakten-alvdalen/
CATEGORIES:Tävling
END:VEVENT
BEGIN:VEVENT
DTSTART;VALUE=DATE:20241215
DTEND;VALUE=DATE:20241216
DTSTAMP:20260421T221648
CREATED:20241022T072402Z
LAST-MODIFIED:20241022T072402Z
UID:2039-1734220800-1734307199@saterbygden.se
SUMMARY:Viken Indoor\, etapp 2\, Sandviken
DESCRIPTION:Information och anmälan
URL:https://saterbygden.se/event/viken-indoor-etapp-2-sandviken-2/
CATEGORIES:Tävling
END:VEVENT
BEGIN:VEVENT
DTSTART;VALUE=DATE:20241221
DTEND;VALUE=DATE:20241222
DTSTAMP:20260421T221648
CREATED:20241022T075234Z
LAST-MODIFIED:20241022T075234Z
UID:2051-1734739200-1734825599@saterbygden.se
SUMMARY:Längd: Järnaspelen\, klassisk
DESCRIPTION:Information och anmälan
URL:https://saterbygden.se/event/langd-jarnaspelen-klassisk/
CATEGORIES:Tävling
END:VEVENT
BEGIN:VEVENT
DTSTART;VALUE=DATE:20241229
DTEND;VALUE=DATE:20241230
DTSTAMP:20260421T221648
CREATED:20241022T075409Z
LAST-MODIFIED:20241022T075409Z
UID:2053-1735430400-1735516799@saterbygden.se
SUMMARY:Längd: Hedemoraskidan\, fri stil
DESCRIPTION:Information och anmälan
URL:https://saterbygden.se/event/langd-hedemoraskidan-fri-stil/
CATEGORIES:Tävling
END:VEVENT
END:VCALENDAR